BEGIN:VCALENDAR
VERSION:2.0
PRODID:-//Swimming Lessons | SplashFit.org - ECPv6.15.17.1//NONSGML v1.0//EN
CALSCALE:GREGORIAN
METHOD:PUBLISH
X-ORIGINAL-URL:https://splashfit.org
X-WR-CALDESC:Events for Swimming Lessons | SplashFit.org
REFRESH-INTERVAL;VALUE=DURATION:PT1H
X-Robots-Tag:noindex
X-PUBLISHED-TTL:PT1H
BEGIN:VTIMEZONE
TZID:America/New_York
BEGIN:DAYLIGHT
TZOFFSETFROM:-0500
TZOFFSETTO:-0400
TZNAME:EDT
DTSTART:20250309T070000
END:DAYLIGHT
BEGIN:STANDARD
TZOFFSETFROM:-0400
TZOFFSETTO:-0500
TZNAME:EST
DTSTART:20251102T060000
END:STANDARD
BEGIN:DAYLIGHT
TZOFFSETFROM:-0500
TZOFFSETTO:-0400
TZNAME:EDT
DTSTART:20260308T070000
END:DAYLIGHT
BEGIN:STANDARD
TZOFFSETFROM:-0400
TZOFFSETTO:-0500
TZNAME:EST
DTSTART:20261101T060000
END:STANDARD
BEGIN:DAYLIGHT
TZOFFSETFROM:-0500
TZOFFSETTO:-0400
TZNAME:EDT
DTSTART:20270314T070000
END:DAYLIGHT
BEGIN:STANDARD
TZOFFSETFROM:-0400
TZOFFSETTO:-0500
TZNAME:EST
DTSTART:20271107T060000
END:STANDARD
END:VTIMEZONE
BEGIN:VEVENT
DTSTART;TZID=America/New_York:20260201T080000
DTEND;TZID=America/New_York:20260201T170000
DTSTAMP:20260420T055443
CREATED:20251218T171907Z
LAST-MODIFIED:20260129T161612Z
UID:24745-1769932800-1769965200@splashfit.org
SUMMARY:MSL Championships 26
DESCRIPTION:OPT-OUT DEADLINE: N/A \nMEET INFO \nENTRIES | VOLUNTEER \nSession 1 | GIRLS\n8AM Warmup | 9AM Start \nSession 2 | BOYS\n1230PM Warmup | 130PM Start \n(SUBJECT TO CHANGE) \nLocation:\nMark Twain Pool\n160 Woodlawn Ave.\nYonkers\, 10704 NY
URL:https://splashfit.org/event/mslchamps26/
LOCATION:Mark Twain Pool\, 160 Woodlawn Ave.\, Yonkers\, 10704\, United States
CATEGORIES:Swim Meets
ORGANIZER;CN="CA Stingrays":MAILTO:castingrays@splashfit.org
END:VEVENT
END:VCALENDAR