BEGIN:VCALENDAR
VERSION:2.0
PRODID:-//Swimming Lessons | SplashFit.org - ECPv6.15.17.1//NONSGML v1.0//EN
CALSCALE:GREGORIAN
METHOD:PUBLISH
X-WR-CALNAME:Swimming Lessons | SplashFit.org
X-ORIGINAL-URL:https://splashfit.org
X-WR-CALDESC:Events for Swimming Lessons | SplashFit.org
REFRESH-INTERVAL;VALUE=DURATION:PT1H
X-Robots-Tag:noindex
X-PUBLISHED-TTL:PT1H
BEGIN:VTIMEZONE
TZID:America/New_York
BEGIN:DAYLIGHT
TZOFFSETFROM:-0500
TZOFFSETTO:-0400
TZNAME:EDT
DTSTART:20240310T070000
END:DAYLIGHT
BEGIN:STANDARD
TZOFFSETFROM:-0400
TZOFFSETTO:-0500
TZNAME:EST
DTSTART:20241103T060000
END:STANDARD
BEGIN:DAYLIGHT
TZOFFSETFROM:-0500
TZOFFSETTO:-0400
TZNAME:EDT
DTSTART:20250309T070000
END:DAYLIGHT
BEGIN:STANDARD
TZOFFSETFROM:-0400
TZOFFSETTO:-0500
TZNAME:EST
DTSTART:20251102T060000
END:STANDARD
BEGIN:DAYLIGHT
TZOFFSETFROM:-0500
TZOFFSETTO:-0400
TZNAME:EDT
DTSTART:20260308T070000
END:DAYLIGHT
BEGIN:STANDARD
TZOFFSETFROM:-0400
TZOFFSETTO:-0500
TZNAME:EST
DTSTART:20261101T060000
END:STANDARD
BEGIN:DAYLIGHT
TZOFFSETFROM:-0500
TZOFFSETTO:-0400
TZNAME:EDT
DTSTART:20270314T070000
END:DAYLIGHT
BEGIN:STANDARD
TZOFFSETFROM:-0400
TZOFFSETTO:-0500
TZNAME:EST
DTSTART:20271107T060000
END:STANDARD
END:VTIMEZONE
BEGIN:VEVENT
DTSTART;TZID=America/New_York:20260201T080000
DTEND;TZID=America/New_York:20260201T170000
DTSTAMP:20260420T114930
CREATED:20251218T171907Z
LAST-MODIFIED:20260129T161612Z
UID:24745-1769932800-1769965200@splashfit.org
SUMMARY:MSL Championships 26
DESCRIPTION:OPT-OUT DEADLINE: N/A \nMEET INFO \nENTRIES | VOLUNTEER \nSession 1 | GIRLS\n8AM Warmup | 9AM Start \nSession 2 | BOYS\n1230PM Warmup | 130PM Start \n(SUBJECT TO CHANGE) \nLocation:\nMark Twain Pool\n160 Woodlawn Ave.\nYonkers\, 10704 NY
URL:https://splashfit.org/event/mslchamps26/
LOCATION:Mark Twain Pool\, 160 Woodlawn Ave.\, Yonkers\, 10704\, United States
CATEGORIES:Swim Meets
ORGANIZER;CN="CA Stingrays":MAILTO:castingrays@splashfit.org
END:VEVENT
BEGIN:VEVENT
DTSTART;TZID=America/New_York:20260110T080000
DTEND;TZID=America/New_York:20260110T170000
DTSTAMP:20260420T114930
CREATED:20251218T231141Z
LAST-MODIFIED:20260114T192437Z
UID:24812-1768032000-1768064400@splashfit.org
SUMMARY:MSL Meet IV
DESCRIPTION:OPT-OUT DEADLINE: 1/5 \nMEET INFO | OPT-OUT | RESULTS \nSPECTATOR | ENTRIES | VOLUNTEER \nSession I | 10 & U / 15 & O\nWarmup 8AM \nSession II | 11 & 12 / 13 & 14\nWarmup 1PM \nSUBJECT TO CHANGE
URL:https://splashfit.org/event/msl-meet-iv/
LOCATION:Dunlevy Milbank Center\, 14-32 W118th St.\, New York\, 10026\, United States
CATEGORIES:Swim Meets
ORGANIZER;CN="CA Stingrays":MAILTO:castingrays@splashfit.org
END:VEVENT
BEGIN:VEVENT
DTSTART;TZID=America/New_York:20260108T190000
DTEND;TZID=America/New_York:20260108T193000
DTSTAMP:20260420T114930
CREATED:20251214T005517Z
LAST-MODIFIED:20260108T223245Z
UID:24737-1767898800-1767900600@splashfit.org
SUMMARY:CAS Parent Meeting 1/8
DESCRIPTION:JOIN MEETING \nAGENDA
URL:https://splashfit.org/event/pm/
LOCATION:Zoom
CATEGORIES:Parent Meeting
ORGANIZER;CN="CA Stingrays":MAILTO:castingrays@splashfit.org
END:VEVENT
BEGIN:VEVENT
DTSTART;TZID=America/New_York:20251208T190000
DTEND;TZID=America/New_York:20251208T193000
DTSTAMP:20260420T114930
CREATED:20251218T202408Z
LAST-MODIFIED:20251220T201733Z
UID:24753-1765220400-1765222200@splashfit.org
SUMMARY:CAS Parent Meeting 12/8
DESCRIPTION:JOIN MEETING \nAGENDA
URL:https://splashfit.org/event/cas-parent-meeting/
LOCATION:Zoom
CATEGORIES:Parent Meeting
ORGANIZER;CN="CA Stingrays":MAILTO:castingrays@splashfit.org
END:VEVENT
BEGIN:VEVENT
DTSTART;TZID=America/New_York:20251206T080000
DTEND;TZID=America/New_York:20251206T170000
DTSTAMP:20260420T114930
CREATED:20251218T230620Z
LAST-MODIFIED:20251218T230649Z
UID:24809-1765008000-1765040400@splashfit.org
SUMMARY:KBM Invite 12/6
DESCRIPTION:OPT-OUT DEADLINE: CLOSED \nMEET INFO | OPT-OUT | FEES | RESULTS \nSPECTATOR | ENTRIES | VOLUNTEER \nSession I | 10 & U / 15 & O\nWarmup 8AM \nSession II | 11 & 12 / 13 & 14\nWarmup 1PM \nSUBJECT TO CHANGE \nLocation\nMark Twain Pool\n160 Woodlawn Ave.\nYonkers\, 10704 NY
URL:https://splashfit.org/event/kbm-invite-12-6/
LOCATION:Mark Twain Pool\, 160 Woodlawn Ave.\, Yonkers\, 10704\, United States
CATEGORIES:Swim Meets
ORGANIZER;CN="CA Stingrays":MAILTO:castingrays@splashfit.org
END:VEVENT
BEGIN:VEVENT
DTSTART;TZID=America/New_York:20251122T080000
DTEND;TZID=America/New_York:20251122T170000
DTSTAMP:20260420T114930
CREATED:20251218T224449Z
LAST-MODIFIED:20251218T224953Z
UID:24784-1763798400-1763830800@splashfit.org
SUMMARY:MSL Meet III
DESCRIPTION:OPT-OUT DEADLINE: CLOSED \nMEET INFO | OPT-OUT | RESULTS \nSPECTATOR | ENTRIES | VOLUNTEER \nSession I | 10 & U\nWarmup 8AM \nSession II | 11 & 12\nWarmup 11AM \nSession III | 13 & O\nWarmup 230PM \nSUBJECT TO CHANGE \nLocation\nMark Twain Pool\n160 Woodlawn Ave.\nYonkers\, 10704 NY
URL:https://splashfit.org/event/msl-meet-iii/
LOCATION:Mark Twain Pool\, 160 Woodlawn Ave.\, Yonkers\, 10704\, United States
CATEGORIES:Swim Meets
ORGANIZER;CN="CA Stingrays":MAILTO:castingrays@splashfit.org
END:VEVENT
BEGIN:VEVENT
DTSTART;TZID=America/New_York:20251101T080000
DTEND;TZID=America/New_York:20251101T170000
DTSTAMP:20260420T114930
CREATED:20251218T225309Z
LAST-MODIFIED:20251218T225309Z
UID:24802-1761984000-1762016400@splashfit.org
SUMMARY:MSL Meet II
DESCRIPTION:OPT-OUT DEADLINE: CLOSED \nMEET INFO | OPT-OUT | RESULTS \nSPECTATOR | ENTRIES | VOLUNTEER \nSession I | 10 & U / 15 & O\nWarmup 8AM \nSession II | 11 & 12 / 13 & 14\nWarmup 1PM \nSUBJECT TO CHANGE \nLocation\nDunlevy Milbank Center\n14-32 W118th St.\nNew York\, NY 10026
URL:https://splashfit.org/event/msl-meet-ii/
LOCATION:Dunlevy Milbank Center\, 14-32 W118th St.\, New York\, 10026\, United States
CATEGORIES:Swim Meets
ORGANIZER;CN="CA Stingrays":MAILTO:castingrays@splashfit.org
END:VEVENT
BEGIN:VEVENT
DTSTART;TZID=America/New_York:20251028T190000
DTEND;TZID=America/New_York:20251028T193000
DTSTAMP:20260420T114930
CREATED:20251218T222701Z
LAST-MODIFIED:20251218T222735Z
UID:24778-1761678000-1761679800@splashfit.org
SUMMARY:CAS Parent Meeting 10/28
DESCRIPTION:JOIN MEETING \nAGENDA
URL:https://splashfit.org/event/cas-parent-meeting-10-28/
LOCATION:Zoom
CATEGORIES:Parent Meeting
ORGANIZER;CN="CA Stingrays":MAILTO:castingrays@splashfit.org
END:VEVENT
BEGIN:VEVENT
DTSTART;TZID=America/New_York:20251019T080000
DTEND;TZID=America/New_York:20251019T170000
DTSTAMP:20260420T114930
CREATED:20251218T225644Z
LAST-MODIFIED:20251218T225740Z
UID:24804-1760860800-1760893200@splashfit.org
SUMMARY:MSL Meet I
DESCRIPTION:OPT-OUT DEADLINE: CLOSED \nMEET INFO | OPT-OUT | RESULTS \nSPECTATOR | ENTRIES | VOLUNTEER \nSession I | 10 & U / 15 & O\nWarmup 8AM \nSession II | 11 & 12 / 13 & 14\nWarmup 1PM \nSUBJECT TO CHANGE \nLocation\nKips Bay Boys and Girls Club\n1930 Randall Ave.\nBronx\, NY 10473
URL:https://splashfit.org/event/msl-meet-i/
LOCATION:Kips Bay Boys & Girls Club\, 1930 Randall Ave.\, Bronx\, 10473\, United States
CATEGORIES:Swim Meets
ORGANIZER;CN="CA Stingrays":MAILTO:castingrays@splashfit.org
END:VEVENT
BEGIN:VEVENT
DTSTART;TZID=America/New_York:20250930T190000
DTEND;TZID=America/New_York:20250930T193000
DTSTAMP:20260420T114930
CREATED:20251218T223240Z
LAST-MODIFIED:20251218T223240Z
UID:24780-1759258800-1759260600@splashfit.org
SUMMARY:CAS Parent Meeting 9/30
DESCRIPTION:JOIN MEETING \nAGENDA
URL:https://splashfit.org/event/cas-parent-meeting-9-30/
LOCATION:Zoom
CATEGORIES:Parent Meeting
ORGANIZER;CN="CA Stingrays":MAILTO:castingrays@splashfit.org
END:VEVENT
BEGIN:VEVENT
DTSTART;TZID=America/New_York:20250903T190000
DTEND;TZID=America/New_York:20250903T193000
DTSTAMP:20260420T114930
CREATED:20251218T223441Z
LAST-MODIFIED:20251218T223441Z
UID:24782-1756926000-1756927800@splashfit.org
SUMMARY:CAS Parent Meeting 9/3
DESCRIPTION:JOIN MEETING \nAGENDA
URL:https://splashfit.org/event/cas-parent-meeting-9-3/
LOCATION:Zoom
CATEGORIES:Parent Meeting
ORGANIZER;CN="CA Stingrays":MAILTO:castingrays@splashfit.org
END:VEVENT
END:VCALENDAR