BEGIN:VCALENDAR
VERSION:2.0
PRODID:-//Swimming Lessons | SplashFit.org - ECPv6.15.17.1//NONSGML v1.0//EN
CALSCALE:GREGORIAN
METHOD:PUBLISH
X-WR-CALNAME:Swimming Lessons | SplashFit.org
X-ORIGINAL-URL:https://splashfit.org
X-WR-CALDESC:Events for Swimming Lessons | SplashFit.org
REFRESH-INTERVAL;VALUE=DURATION:PT1H
X-Robots-Tag:noindex
X-PUBLISHED-TTL:PT1H
BEGIN:VTIMEZONE
TZID:America/New_York
BEGIN:DAYLIGHT
TZOFFSETFROM:-0500
TZOFFSETTO:-0400
TZNAME:EDT
DTSTART:20250309T070000
END:DAYLIGHT
BEGIN:STANDARD
TZOFFSETFROM:-0400
TZOFFSETTO:-0500
TZNAME:EST
DTSTART:20251102T060000
END:STANDARD
BEGIN:DAYLIGHT
TZOFFSETFROM:-0500
TZOFFSETTO:-0400
TZNAME:EDT
DTSTART:20260308T070000
END:DAYLIGHT
BEGIN:STANDARD
TZOFFSETFROM:-0400
TZOFFSETTO:-0500
TZNAME:EST
DTSTART:20261101T060000
END:STANDARD
BEGIN:DAYLIGHT
TZOFFSETFROM:-0500
TZOFFSETTO:-0400
TZNAME:EDT
DTSTART:20270314T070000
END:DAYLIGHT
BEGIN:STANDARD
TZOFFSETFROM:-0400
TZOFFSETTO:-0500
TZNAME:EST
DTSTART:20271107T060000
END:STANDARD
END:VTIMEZONE
BEGIN:VEVENT
DTSTART;TZID=America/New_York:20260310T190000
DTEND;TZID=America/New_York:20260310T193000
DTSTAMP:20260420T041925
CREATED:20251218T212455Z
LAST-MODIFIED:20260310T214728Z
UID:24763-1773169200-1773171000@splashfit.org
SUMMARY:CAS Parent Meeting 3/10
DESCRIPTION:JOIN MEETING \nAGENDA \n 
URL:https://splashfit.org/event/cas-parent-meeting-3-10/
LOCATION:Zoom
CATEGORIES:Parent Meeting
ORGANIZER;CN="CA Stingrays":MAILTO:castingrays@splashfit.org
END:VEVENT
BEGIN:VEVENT
DTSTART;TZID=America/New_York:20260313T080000
DTEND;TZID=America/New_York:20260315T180000
DTSTAMP:20260420T041926
CREATED:20251231T192207Z
LAST-MODIFIED:20260102T165000Z
UID:24882-1773388800-1773597600@splashfit.org
SUMMARY:Junior Mets | Age Group TC 26
DESCRIPTION:OPT-OUT DEADLINE: TBA | QUALIFYING SWIMMERS ONLY \nMEET INFO | OPT-OUT | ENTRIES | FEES \nSPECTATOR | VOLUNTEER | RESULTS \nFriday\, March 13th \nTBA \nSaturday\, March 14th \nTBA \nSunday March 15th \nTBA \nSUBJECT TO CHANGE | MORE INFORMATION TO FOLLOW
URL:https://splashfit.org/event/junior-mets-age-group-tc-26/
LOCATION:Nassau County Aquatic Center\, Eisenhower Park\, East Meadow\, NY\, 11554\, United States
CATEGORIES:Swim Meets
ORGANIZER;CN="CA Stingrays":MAILTO:castingrays@splashfit.org
END:VEVENT
BEGIN:VEVENT
DTSTART;TZID=America/New_York:20260327T143000
DTEND;TZID=America/New_York:20260329T180000
DTSTAMP:20260420T041926
CREATED:20251231T192451Z
LAST-MODIFIED:20260410T140628Z
UID:24885-1774621800-1774807200@splashfit.org
SUMMARY:MR Bronze 26
DESCRIPTION:OPT-OUT DEADLINE: CLOSED | QUALIFYING SWIMMERS ONLY \nMEET INFO | OPT-OUT | ENTRIES | FEES \nSPECTATOR TICKETS | VOLUNTEER | RESULTS \nFriday\, March 27th \nALL AGES | 5PM Warm Up \nSaturday\, March 28th \n9-10 | 730AM Warm Up \n11-12 | 1015AM Warm Up \n13 & Over | 2PM Warm Up \nSunday March 29th \n9-10 | 730AM Warm Up \n11-12 | 1015AM Warm Up \n13 & Over | 2PM Warm Up \nSUBJECT TO CHANGE | MORE INFORMATION TO FOLLOW
URL:https://splashfit.org/event/mr-bronze-26/
LOCATION:Mark Twain Pool\, 160 Woodlawn Ave.\, Yonkers\, 10704\, United States
CATEGORIES:Swim Meets
END:VEVENT
BEGIN:VEVENT
DTSTART;TZID=America/New_York:20260414T190000
DTEND;TZID=America/New_York:20260414T193000
DTSTAMP:20260420T041926
CREATED:20251218T213126Z
LAST-MODIFIED:20260414T225233Z
UID:24765-1776193200-1776195000@splashfit.org
SUMMARY:CAS Parent Meeting 4/14
DESCRIPTION:JOIN MEETING \nAGENDA \nIMPORTANT LINKS \nWebsite updates – https://splashfit.org/stingrays/ \nUSA Swimming – https://omr.usaswimming.org/omr/welcome/7FACFAAEF8F248 \nUniforms/Team Suits – https://www.swimoutlet.com/collections/castingraysny?frm=fyt \nEvents – https://splashfit.org/events/
URL:https://splashfit.org/event/cas-parent-meeting-4-10/
LOCATION:Zoom
CATEGORIES:Parent Meeting
ORGANIZER;CN="CA Stingrays":MAILTO:castingrays@splashfit.org
END:VEVENT
BEGIN:VEVENT
DTSTART;TZID=America/New_York:20260509T073000
DTEND;TZID=America/New_York:20260509T180000
DTSTAMP:20260420T041926
CREATED:20260415T193141Z
LAST-MODIFIED:20260416T193205Z
UID:25432-1778311800-1778349600@splashfit.org
SUMMARY:19th Annual Steve Bonano Sprint Meet
DESCRIPTION:OPT-OUT DEADLINE: 4/27 @ 12PM \nMEET INFO | OPT-OUT | ENTRIES | FEES \nSPECTATOR TICKETS | VOLUNTEER | RESULTS \nSaturday\, May 9th \n12 & Under | 730AM Warm Up \n13 & Over | 130PM Warm Up \nSUBJECT TO CHANGE | MORE INFORMATION TO FOLLOW
URL:https://splashfit.org/event/19th-annual-steve-bonano-sprint-meet/
LOCATION:Lehman College\, 250 Bedford Park Blvd W\, Bronx\, NY\, 10468\, United States
CATEGORIES:Swim Meets
END:VEVENT
BEGIN:VEVENT
DTSTART;TZID=America/New_York:20260512T190000
DTEND;TZID=America/New_York:20260512T193000
DTSTAMP:20260420T041926
CREATED:20251218T213405Z
LAST-MODIFIED:20260414T210633Z
UID:24768-1778612400-1778614200@splashfit.org
SUMMARY:CAS Parent Meeting 5/12
DESCRIPTION:JOIN MEETING
URL:https://splashfit.org/event/cas-parent-meeting-5-12/
LOCATION:Zoom
CATEGORIES:Parent Meeting
ORGANIZER;CN="CA Stingrays":MAILTO:castingrays@splashfit.org
END:VEVENT
BEGIN:VEVENT
DTSTART;TZID=America/New_York:20260516T080000
DTEND;TZID=America/New_York:20260517T180000
DTSTAMP:20260420T041926
CREATED:20260415T193937Z
LAST-MODIFIED:20260415T194032Z
UID:25437-1778918400-1779040800@splashfit.org
SUMMARY:NYS Spring Frenzy
DESCRIPTION:OPT-OUT DEADLINE: 5/1 @ 12PM \nMEET INFO | OPT-OUT | ENTRIES | FEES \nSPECTATOR TICKETS | VOLUNTEER | RESULTS \nSaturday\, May 16th \n10 & Under/ 13-14 | 8AM Warm Up \n11-12 / 15 & Over | 1PM Warm Up \nSunday May 17th \n10 & Under/ 13-14 | 8AM Warm Up \n11-12 / 15 & Over | 1PM Warm Up \nSUBJECT TO CHANGE | MORE INFORMATION TO FOLLOW
URL:https://splashfit.org/event/nys-spring-frenzy/
LOCATION:Lehman College\, 250 Bedford Park Blvd W\, Bronx\, NY\, 10468\, United States
CATEGORIES:Swim Meets
END:VEVENT
BEGIN:VEVENT
DTSTART;TZID=America/New_York:20260609T190000
DTEND;TZID=America/New_York:20260609T193000
DTSTAMP:20260420T041926
CREATED:20251218T213804Z
LAST-MODIFIED:20251218T213804Z
UID:24770-1781031600-1781033400@splashfit.org
SUMMARY:CAS Parent Meeting 6/9
DESCRIPTION:JOIN MEETING
URL:https://splashfit.org/event/cas-parent-meeting-6-9/
LOCATION:Zoom
CATEGORIES:Parent Meeting
ORGANIZER;CN="CA Stingrays":MAILTO:castingrays@splashfit.org
END:VEVENT
BEGIN:VEVENT
DTSTART;TZID=America/New_York:20260620T080000
DTEND;TZID=America/New_York:20260621T180000
DTSTAMP:20260420T041926
CREATED:20260415T194310Z
LAST-MODIFIED:20260415T194310Z
UID:25441-1781942400-1782064800@splashfit.org
SUMMARY:Red Tails International Meet
DESCRIPTION:OPT-OUT DEADLINE: 6/1 @ 12PM \nMEET INFO | OPT-OUT | ENTRIES | FEES \nSPECTATOR TICKETS | VOLUNTEER | RESULTS \nSaturday\, June 20th \nTBA \nSunday May 17th \nTBA \nSUBJECT TO CHANGE | MORE INFORMATION TO FOLLOW
URL:https://splashfit.org/event/red-tails-international-meet/
LOCATION:Lehman College\, 250 Bedford Park Blvd W\, Bronx\, NY\, 10468\, United States
CATEGORIES:Swim Meets
END:VEVENT
BEGIN:VEVENT
DTSTART;TZID=America/New_York:20260628T090000
DTEND;TZID=America/New_York:20260628T170000
DTSTAMP:20260420T041926
CREATED:20260415T202556Z
LAST-MODIFIED:20260415T203130Z
UID:25443-1782637200-1782666000@splashfit.org
SUMMARY:G Swim Invitational 2026
DESCRIPTION:OPT-OUT DEADLINE: 6/15 \nMEET INFO | OPT-OUT | RESULTS \nSPECTATOR | ENTRIES | VOLUNTEER \nAll Ages | 9AM Warmup \nSUBJECT TO CHANGE
URL:https://splashfit.org/event/g-swim-invitational-2026/
LOCATION:Dunlevy Milbank Center\, 14-32 W118th St.\, New York\, 10026\, United States
END:VEVENT
BEGIN:VEVENT
DTSTART;TZID=America/New_York:20260707T190000
DTEND;TZID=America/New_York:20260707T193000
DTSTAMP:20260420T041926
CREATED:20251218T213923Z
LAST-MODIFIED:20251222T153642Z
UID:24772-1783450800-1783452600@splashfit.org
SUMMARY:CAS Parent Meeting 7/7
DESCRIPTION:JOIN MEETING
URL:https://splashfit.org/event/cas-parent-meeting-7-7/
LOCATION:Zoom
CATEGORIES:Parent Meeting
ORGANIZER;CN="CA Stingrays":MAILTO:castingrays@splashfit.org
END:VEVENT
END:VCALENDAR