BEGIN:VCALENDAR
VERSION:2.0
PRODID:-//Swimming Lessons | SplashFit.org - ECPv6.15.17.1//NONSGML v1.0//EN
CALSCALE:GREGORIAN
METHOD:PUBLISH
X-WR-CALNAME:Swimming Lessons | SplashFit.org
X-ORIGINAL-URL:https://splashfit.org
X-WR-CALDESC:Events for Swimming Lessons | SplashFit.org
REFRESH-INTERVAL;VALUE=DURATION:PT1H
X-Robots-Tag:noindex
X-PUBLISHED-TTL:PT1H
BEGIN:VTIMEZONE
TZID:America/New_York
BEGIN:DAYLIGHT
TZOFFSETFROM:-0500
TZOFFSETTO:-0400
TZNAME:EDT
DTSTART:20250309T070000
END:DAYLIGHT
BEGIN:STANDARD
TZOFFSETFROM:-0400
TZOFFSETTO:-0500
TZNAME:EST
DTSTART:20251102T060000
END:STANDARD
BEGIN:DAYLIGHT
TZOFFSETFROM:-0500
TZOFFSETTO:-0400
TZNAME:EDT
DTSTART:20260308T070000
END:DAYLIGHT
BEGIN:STANDARD
TZOFFSETFROM:-0400
TZOFFSETTO:-0500
TZNAME:EST
DTSTART:20261101T060000
END:STANDARD
BEGIN:DAYLIGHT
TZOFFSETFROM:-0500
TZOFFSETTO:-0400
TZNAME:EDT
DTSTART:20270314T070000
END:DAYLIGHT
BEGIN:STANDARD
TZOFFSETFROM:-0400
TZOFFSETTO:-0500
TZNAME:EST
DTSTART:20271107T060000
END:STANDARD
END:VTIMEZONE
BEGIN:VEVENT
DTSTART;TZID=America/New_York:20260201T080000
DTEND;TZID=America/New_York:20260201T170000
DTSTAMP:20260420T041614
CREATED:20251218T171907Z
LAST-MODIFIED:20260129T161612Z
UID:24745-1769932800-1769965200@splashfit.org
SUMMARY:MSL Championships 26
DESCRIPTION:OPT-OUT DEADLINE: N/A \nMEET INFO \nENTRIES | VOLUNTEER \nSession 1 | GIRLS\n8AM Warmup | 9AM Start \nSession 2 | BOYS\n1230PM Warmup | 130PM Start \n(SUBJECT TO CHANGE) \nLocation:\nMark Twain Pool\n160 Woodlawn Ave.\nYonkers\, 10704 NY
URL:https://splashfit.org/event/mslchamps26/
LOCATION:Mark Twain Pool\, 160 Woodlawn Ave.\, Yonkers\, 10704\, United States
CATEGORIES:Swim Meets
ORGANIZER;CN="CA Stingrays":MAILTO:castingrays@splashfit.org
END:VEVENT
BEGIN:VEVENT
DTSTART;TZID=America/New_York:20260210T190000
DTEND;TZID=America/New_York:20260210T193000
DTSTAMP:20260420T041614
CREATED:20251218T212223Z
LAST-MODIFIED:20260210T224325Z
UID:24761-1770750000-1770751800@splashfit.org
SUMMARY:CAS Parent Meeting 2/10
DESCRIPTION:JOIN MEETING \n  \nAGENDA
URL:https://splashfit.org/event/cas-parent-meeting-2-10/
LOCATION:Zoom
CATEGORIES:Parent Meeting
ORGANIZER;CN="CA Stingrays":MAILTO:castingrays@splashfit.org
END:VEVENT
BEGIN:VEVENT
DTSTART;TZID=America/New_York:20260213T080000
DTEND;TZID=America/New_York:20260215T200000
DTSTAMP:20260420T041614
CREATED:20251218T233050Z
LAST-MODIFIED:20260222T165226Z
UID:24815-1770969600-1771185600@splashfit.org
SUMMARY:39th BHSM 2/13-2/15
DESCRIPTION:OPT-OUT DEADLINE: 1/11 | QUALIFYING SWIMMERS ONLY \nMEET INFO | OPT-OUT | ENTRIES | FEES \nSPECTATOR | VOLUNTEER | RESULTS \nFriday\, February 13th\nAll ages Warm Up – 2:50 pm; Events – 4:00 pm \nSaturday & Sunday\, February 14th – 15th\nPRELIMS | 13 & Over | Warm Up – 6:00AM\nPRELIMS | 12 & Under | Warm Up – 11:30AM\nFINALS | Warm Up – 4:30 pm; Events – 5:30 pm \nSUBJECT TO CHANGE | MORE INFORMATION TO FOLLOW \nLocation\nTakoma Aquatic Center\n300 Van Buren Street NW\nWashington\, DC 20012
URL:https://splashfit.org/event/39th-bhsm-2-13-2-15/
LOCATION:Takoma Aquatic Center\, 300 Van Buren Street NW\, Washington\, DC\, 20012\, United States
CATEGORIES:Swim Meets
ORGANIZER;CN="CA Stingrays":MAILTO:castingrays@splashfit.org
END:VEVENT
BEGIN:VEVENT
DTSTART;TZID=America/New_York:20260220T143000
DTEND;TZID=America/New_York:20260222T180000
DTSTAMP:20260420T041614
CREATED:20251231T191630Z
LAST-MODIFIED:20260221T165335Z
UID:24878-1771597800-1771783200@splashfit.org
SUMMARY:MR Silvers Championships 26
DESCRIPTION:OPT-OUT DEADLINE: QUALIFYING SWIMMERS ONLY \nMEET INFO | OPT-OUT | ENTRIES | FEES \nSPECTATOR | VOLUNTEER | RESULTS \nFriday\, February 20th \nAll Ages | 430PM Warmup \nSaturday\, February 21st \n10 & Under | 8AM Warmup \n11 & 12 | 1130AM Warmup \n13 & Over | 3PM Warmup \nSunday February 22nd \n10 & Under | 8AM Warmup \n11 & 12 | 1130AM Warmup \n13 & Over | 3PM Warmup \nSUBJECT TO CHANGE | MORE INFORMATION TO FOLLOW
URL:https://splashfit.org/event/mr-silvers-championships/
LOCATION:Lehman College\, 250 Bedford Park Blvd W\, Bronx\, NY\, 10468\, United States
CATEGORIES:Swim Meets
ORGANIZER;CN="CA Stingrays":MAILTO:castingrays@splashfit.org
END:VEVENT
END:VCALENDAR